BEGIN:VCALENDAR
VERSION:2.0
PRODID:https://www.tourismus-neumarkt.de/
X-PUBLISHED-TTL:P1D
BEGIN:VEVENT
UID:69e8e89bec62f
DTSTART;VALUE=DATE:20260815
SEQUENCE:0
TRANSP:OPAQUE
DTEND;VALUE=DATE:20260825
URL:https://www.tourismus-neumarkt.de/veranstaltungen/open_air-sommerkino_2
 026-808135-12682425/
LOCATION:Arena im LGS-Park - Neumarkt i.d.OPf.
SUMMARY:Open Air - Sommerkino 2026
X-MICROSOFT-CDO-ALLDAYEVENT:TRUE
DTSTAMP:20260422T172619Z
END:VEVENT
END:VCALENDAR