BEGIN:VCALENDAR
VERSION:2.0
PRODID:https://www.tourismus-neumarkt.de/
X-PUBLISHED-TTL:P1D
BEGIN:VEVENT
UID:69e8a4ba0d1b2
DTSTART:20261205T070000Z
SEQUENCE:0
TRANSP:OPAQUE
DTEND:20261205T150000Z
URL:https://www.tourismus-neumarkt.de/veranstaltungen/flohmarkt-669963-1259
 6573
LOCATION:Kleine Jurahalle und Festplatz - Neumarkt i.d.OPf.
SUMMARY:Flohmarkt
DTSTAMP:20260422T123642Z
END:VEVENT
END:VCALENDAR